BEGIN:VCALENDAR
VERSION:2.0
PRODID:-//wp-events-plugin.com//7.2.3.1//EN
TZID:Europe/Berlin
X-WR-TIMEZONE:Europe/Berlin
BEGIN:VEVENT
UID:41@dl0wh.de
DTSTART;TZID=Europe/Berlin:20241016T193000
DTEND;TZID=Europe/Berlin:20241016T200000
DTSTAMP:20241011T223425Z
URL:https://dl0wh.de/events/a20-ov-abend/
SUMMARY:A20 OV-Abend
DESCRIPTION:eine halbe Stunde DARC.A20-Themen.\n\n73\, Euer OVV\nKlaus DG7F
 BT
ATTACH;FMTTYPE=image/jpeg:https://dl0wh.de/wp-content/uploads/2024/10/DARC
 _A20_rund.jpg
CATEGORIES:DARC
LOCATION:DL0WH\, Weid 17\, Weinheim \, Baden-Württemberg\, 69469\, Deutsch
 land
X-APPLE-STRUCTURED-LOCATION;VALUE=URI;X-ADDRESS=Weid 17\, Weinheim \, Baden
 -Württemberg\, 69469\, Deutschland;X-APPLE-RADIUS=100;X-TITLE=DL0WH:geo:0
 ,0
END:VEVENT
BEGIN:VTIMEZONE
TZID:Europe/Berlin
X-LIC-LOCATION:Europe/Berlin
BEGIN:DAYLIGHT
DTSTART:20240331T030000
TZOFFSETFROM:+0100
TZOFFSETTO:+0200
TZNAME:CEST
END:DAYLIGHT
END:VTIMEZONE
END:VCALENDAR