BEGIN:VCALENDAR
VERSION:2.0
PRODID:-//wp-events-plugin.com//7.2.3.1//EN
TZID:Europe/Berlin
X-WR-TIMEZONE:Europe/Berlin
BEGIN:VEVENT
UID:1@dl0wh.de
DTSTART;TZID=Europe/Berlin:20240906T000000
DTEND;TZID=Europe/Berlin:20240906T000000
DTSTAMP:20240808T095650Z
URL:https://dl0wh.de/events/early-birds-zum-tagungsfreitag-bei-dl0wh-grill
 /
SUMMARY:Early Birds zum Tagungsfreitag bei DL0WH\, Grill
DESCRIPTION:Grillfest
ATTACH;FMTTYPE=image/jpeg:https://dl0wh.de/wp-content/uploads/2024/08/UKW_
 24_kl.jpg
CATEGORIES:Mittwoch
LOCATION:DL0WH\, Weid 17\, Weinheim \, Baden-Württemberg\, 69469\, Deutsch
 land
X-APPLE-STRUCTURED-LOCATION;VALUE=URI;X-ADDRESS=Weid 17\, Weinheim \, Baden
 -Württemberg\, 69469\, Deutschland;X-APPLE-RADIUS=100;X-TITLE=DL0WH:geo:0
 ,0
END:VEVENT
BEGIN:VTIMEZONE
TZID:Europe/Berlin
X-LIC-LOCATION:Europe/Berlin
BEGIN:DAYLIGHT
DTSTART:20240331T030000
TZOFFSETFROM:+0100
TZOFFSETTO:+0200
TZNAME:CEST
END:DAYLIGHT
END:VTIMEZONE
END:VCALENDAR