BEGIN:VCALENDAR
VERSION:2.0
PRODID:-//wp-events-plugin.com//7.2.3.1//EN
TZID:Europe/Berlin
X-WR-TIMEZONE:Europe/Berlin
BEGIN:VEVENT
UID:108@dl0wh.de
DTSTART;TZID=Europe/Berlin:20250326T193000
DTEND;TZID=Europe/Berlin:20250326T203000
DTSTAMP:20250315T171205Z
URL:https://dl0wh.de/events/nextcloud-unsere-fileablage-und-austauschplatt
 form-hinweise-und-erlaeuterungen-fuer-den-interessierten-nutzer-klaus-jung
 -dg7fbt/
SUMMARY:"NextCloud - unsere Fileablage und Austauschplattform" - Hinweise u
 nd Erläuterungen für den interessierten Nutzer - Klaus Jung\, DG7FBT
DESCRIPTION:Zitat:\n"Nextcloud ist eine auf einem ownCloud-Fork basierende 
 in PHP entwickelte freie Software für das Speichern von Daten auf einem S
 erver. Auf die Daten kann der Anwender sowohl über eine Weboberfläche al
 s auch mit Client-Applikationen zugreifen. Server und Clients können sich
  dabei synchronisieren."  wikipedia\n\n\nHersteller NEXTCLOUD\n\nWie dies
 es System für A20 und FACW aufgesetzt ist und wie Vereinsmitglieder zu Nu
 tzern werden können\, stellt OM Klaus\, DG7FBT in einer kurzen Präsentat
 ion vor.\n\n 
ATTACH;FMTTYPE=image/jpeg:https://dl0wh.de/wp-content/uploads/2025/03/next
 cloud.jpg
CATEGORIES:Mittwoch,Vortrag,Wasserhaus
LOCATION:DL0WH\, Weid 17\, Weinheim \, Baden-Württemberg\, 69469\, Deutsch
 land
X-APPLE-STRUCTURED-LOCATION;VALUE=URI;X-ADDRESS=Weid 17\, Weinheim \, Baden
 -Württemberg\, 69469\, Deutschland;X-APPLE-RADIUS=100;X-TITLE=DL0WH:geo:0
 ,0
END:VEVENT
BEGIN:VTIMEZONE
TZID:Europe/Berlin
X-LIC-LOCATION:Europe/Berlin
BEGIN:STANDARD
DTSTART:20241027T020000
TZOFFSETFROM:+0200
TZOFFSETTO:+0100
TZNAME:CET
END:STANDARD
END:VTIMEZONE
END:VCALENDAR